BEGIN:VCALENDAR
VERSION:2.0
PRODID:-//ChamberMaster//Event Calendar 2.0//EN
METHOD:PUBLISH
X-PUBLISHED-TTL:P3D
REFRESH-INTERVAL:P3D
CALSCALE:GREGORIAN
BEGIN:VEVENT
DTSTART:20211024T190000Z
DTEND:20211024T220000Z
X-MICROSOFT-CDO-ALLDAYEVENT:FALSE
SUMMARY:Fall Heritage Day
DESCRIPTION:Fall Heritage Day spotlights local history\n\nBlacksmith's forge will be open.\n\nOutdoor events featured a crafts for children\n\nBook signing by local author of "Say Hello to Johnny" a WWII book\n\nTours for small groups with masks
X-ALT-DESC;FMTTYPE=text/html:<p><strong><em><span style="color:#800000"><span style="font-size:20px"><span style="font-family:times new roman">Fall Heritage Day spotlights local history</span></span></span></em></strong></p>\n\n<p>Blacksmith&#39\;s forge will be open.<br />\nOutdoor events featured a crafts for children<br />\nBook signing by local author of &quot\;Say Hello to Johnny&quot\; a WWII book<br />\nTours for small groups with masks</p>\n\n<p>&nbsp\;</p>\n\n<p>&nbsp\;</p>\n
LOCATION:45 South Columbus Street Sunbury\, Ohio
UID:e.295.6264
SEQUENCE:3
DTSTAMP:20260423T164053Z
URL:https://business.sunburybigwalnutchamber.com/events/details/fall-heritage-day-6264
END:VEVENT

END:VCALENDAR
