BEGIN:VCALENDAR
VERSION:2.0
PRODID:-//ChamberMaster//Event Calendar 2.0//EN
METHOD:PUBLISH
X-PUBLISHED-TTL:P3D
REFRESH-INTERVAL:P3D
CALSCALE:GREGORIAN
BEGIN:VEVENT
DTSTART:20230901T120000Z
DTEND:20230901T130000Z
X-MICROSOFT-CDO-ALLDAYEVENT:FALSE
SUMMARY:FFBBOB
DESCRIPTION:Join the chamber as we resume our First Friday Building Business Over Breakfast series.\n\n\n\n7 Keys to Retirement Savings Success at any Life Stage\n\n \n\nSpeaker: Michelle Kuhtenia\, CPA/Owner\, ClearGuide Financial & Tax Services\n\n \n\nDescription:  Learn (or get a refresher!) about important financial habits and strategies to help you in the journey to building your savings and retirement nest egg.\n\n \n\nBio:  An experienced CPA and Financial Professional\, Michelle has a passion for and firmly believes in taking a holistic\, tax smart planning approach with her clients. She provides financial services\, retirement planning\, and tax preparation services for individuals and small businesses.\n\nAmong other board positions\, Michelle currently serves as a board member and Treasurer on the Sunbury Big Walnut Area Chamber of Commerce Board of Directors. She is a member of the Ohio Society of CPA's (OSCPA)\, OSCPA Women's Initiatives Committee\, and the American Institute of CPA's.\n\nMichelle is a former hockey mom and fan of the Columbus Blue Jackets - Go Jackets! She enjoys staying fit\, spending time with family and friends\, trying new restaurants\, traveling (especially to the beach) reading and\, when time permits\, doing a little hiking. One of her favorite places to visit is the Great Sand Dunes National Park & Preserve in southern Colorado\, home to the largest sand dunes in North America!
X-ALT-DESC;FMTTYPE=text/html:<strong><span style="color:#242424\;"><span style="font-family:calibri\,sans-serif\;">Join the chamber as we resume our First Friday Building Business Over Breakfast series.</span></span><br />\n<br />\n<em><span style="color:#242424\;"><span style="font-family:calibri\,sans-serif\;">7 Keys to Retirement Savings Success at any Life Stage</span></span></em></strong><br />\n&nbsp\;<br />\n<strong><span style="color:#242424\;"><span style="font-family:calibri\,sans-serif\;">Speaker:&nbsp\;</span></span></strong><span data-markjs="true" data-ogab="" data-ogac="" data-ogsb="" data-ogsc=""><span style="color:inherit\;"><span style="border:none windowtext 1.0pt\;padding:0in\;"><span style="color:#242424\;"><span style="font-family:calibri\,sans-serif\;">Michelle</span></span></span></span></span><span style="color:#242424\;"><span style="font-family:calibri\,sans-serif\;">&nbsp\;Kuhtenia\, CPA/Owner\, ClearGuide Financial &amp\; Tax Services</span></span><br />\n&nbsp\;<br />\n<strong><span style="color:#242424\;"><span style="font-family:calibri\,sans-serif\;">Description:&nbsp\;&nbsp\;</span></span></strong><span style="color:#242424\;"><span style="font-family:calibri\,sans-serif\;">Learn (or get a refresher!) about important financial habits and strategies to help you in the journey to building your savings and retirement nest egg.</span></span><br />\n&nbsp\;<br />\n<strong><span style="color:#242424\;"><span style="font-family:calibri\,sans-serif\;">Bio:&nbsp\;&nbsp\;</span></span></strong><span style="font-size:12px\;"><span style="font-family:arial\;"><span style="color:#242424\;">An experienced CPA and Financial Professional\,&nbsp\;<span style="border:none windowtext 1.0pt\;padding:0in\;"><span data-markjs="true" data-ogab="" data-ogac="" data-ogsb="" data-ogsc=""><span style="color:inherit\;">Michelle</span></span></span>&nbsp\;has a passion for and firmly believes in taking a holistic\, tax smart planning approach with her clients. She provides financial services\, retirement planning\, and tax preparation services for individuals and small businesses.</span><br />\n<span style="color:#242424\;">Among other board positions\,&nbsp\;<span style="border:none windowtext 1.0pt\;padding:0in\;"><span data-markjs="true" data-ogab="" data-ogac="" data-ogsb="" data-ogsc=""><span style="color:inherit\;">Michelle</span></span></span>&nbsp\;currently serves as a board member and Treasurer on the Sunbury Big Walnut Area Chamber of Commerce Board of Directors. She is a member of the Ohio Society of CPA&rsquo\;s (OSCPA)\, OSCPA Women&rsquo\;s Initiatives Committee\, and the American Institute of CPA&rsquo\;s.</span><br />\n<span data-markjs="true" data-ogab="" data-ogac="" data-ogsb="" data-ogsc=""><span style="color:inherit\;"><span style="border:none windowtext 1.0pt\;padding:0in\;"><span style="color:#242424\;">Michelle</span></span></span></span><span style="color:#242424\;">&nbsp\;is a former hockey mom and fan of the Columbus Blue Jackets - Go Jackets! She enjoys staying fit\, spending time with family and friends\, trying new restaurants\, traveling (especially to the beach) reading and\, when time permits\, doing a little hiking. One of her favorite places to visit is the Great Sand Dunes National Park &amp\; Preserve in southern Colorado\, home to the largest sand dunes in North America!</span></span></span>
LOCATION:Sunbury Big Walnut Chamber of Commerce 39 E. Granville St. Sunbury
UID:e.295.6694
SEQUENCE:3
DTSTAMP:20260420T015821Z
URL:https://business.sunburybigwalnutchamber.com/events/details/ffbbob-6694
END:VEVENT

END:VCALENDAR
