BEGIN:VCALENDAR
VERSION:2.0
PRODID:-//ChamberMaster//Event Calendar 2.0//EN
METHOD:PUBLISH
X-PUBLISHED-TTL:P3D
REFRESH-INTERVAL:P3D
CALSCALE:GREGORIAN
BEGIN:VEVENT
DTSTART:20231103T120000Z
DTEND:20231103T130000Z
X-MICROSOFT-CDO-ALLDAYEVENT:FALSE
SUMMARY:FFBBOB
DESCRIPTION:FFBBOB- save the date\n\nDelaware County Prosecuting Attorney Melissa Schiffel will be our guest speaker. Her role has given her much insight into the world of criminal justice and its process\, as well as reform efforts. She will be speaking on crime in a growing community.
X-ALT-DESC;FMTTYPE=text/html:FFBBOB- save the date<br />\nDelaware County Prosecuting Attorney Melissa Schiffel will be our guest speaker. Her role has given her much insight into the world of criminal justice and its process\, as well as reform efforts. She will be speaking on crime in a growing community.
LOCATION:Sunbury Big Walnut Chamber of Commerce 39 E Granville St Sunbury
UID:e.295.6696
SEQUENCE:3
DTSTAMP:20260420T000931Z
URL:https://business.sunburybigwalnutchamber.com/events/details/ffbbob-6696
END:VEVENT

END:VCALENDAR
