BEGIN:VCALENDAR
VERSION:2.0
PRODID:-//ChamberMaster//Event Calendar 2.0//EN
METHOD:PUBLISH
X-PUBLISHED-TTL:P3D
REFRESH-INTERVAL:P3D
CALSCALE:GREGORIAN
BEGIN:VEVENT
DTSTART:20230505T120000Z
DTEND:20230505T130000Z
X-MICROSOFT-CDO-ALLDAYEVENT:FALSE
SUMMARY:FFBBOB - May 5
DESCRIPTION:Lesley Doan is a Certified Leadership Coach/Consultant with GiANT Worldwide and the Founder of Vivid Coaching and Consulting. \n\n \n\nHer background is in education as she spent 9 years as a teacher and administrator. She was also the Executive Director at a nonprofit in Canton\, OH for 4 years. She has always found herself in leadership roles where she can coach those around her to become better and grow in their skills and talents. \n\n \n\nShe was introduced to GiANT in 2017 and she was hooked! She became more self-aware and a better communicator with those she was leading at home and work. In 2019 she decided to become a licensed coach and continue her journey to empower other leaders to become healthy so that they can multiply that health to those they lead. \n\n \n\nSince that time\, she has been working with individuals\, teams and organizations helping them improve self-awareness and communication. Specifically with teams\, she helps them improve relationships\, communication\, alignment\, execution\, and capacity to maximize team performance. \n\n \n\nShe works with clients 1:1\, facilitate workshops\, lead groups\, and works with her clients to identify their goals and the steps needed to achieve them. \n\n \n\nTopic: DEVELOPING OTHERS + PIT OF DESPAIR + EFFECTIVE LEARNING - Multiplying Yourself \n\n \n\nWhat are you doing to raise the capacity of those around you? \n\n \n\nMost of us don't think about equipping others until it's too late. It may be someone who leaves your team & leaves a void behind because no one else knows how to fill. It could be that your weekly load increases to the point that you need to offload important tasks to someone you can trust\, but it's hard to find the time to do so. Sometimes it is because you're working toward stepping away from the business or team in the near future & you want to ensure that they thrive even after you're gone. \n\n \n\nWhatever the circumstance\, the 'how' of equipping others is always where the pain is felt. Learn three tools that can help you effectively multiply into the lives of those you lead.
X-ALT-DESC;FMTTYPE=text/html:Lesley Doan is a Certified Leadership Coach/Consultant with GiANT Worldwide and the Founder of Vivid Coaching and Consulting.&nbsp\;<br />\n&nbsp\;<br />\nHer background is in education as she spent 9 years as a teacher and administrator. She was also the Executive Director at a nonprofit in Canton\, OH for 4 years. She has always&nbsp\;found herself in leadership roles where she can coach those around her to become better and grow in their skills and talents.&nbsp\;<br />\n&nbsp\;<br />\nShe was introduced to GiANT in 2017 and she was hooked! She became more self-aware and a better communicator with those she was leading at home and work. In 2019 she decided to become a licensed coach and continue her journey to empower other leaders to become healthy so that they can multiply&nbsp\;that health to those they lead.&nbsp\;<br />\n&nbsp\;<br />\nSince that time\, she has been working with individuals\, teams and organizations helping them improve self-awareness and communication. Specifically with teams\, she helps them improve relationships\, communication\, alignment\, execution\, and capacity to maximize team performance.&nbsp\;<br />\n&nbsp\;<br />\nShe works with clients 1:1\, facilitate workshops\, lead groups\, and works with her clients to identify their goals and the steps needed to achieve them.&nbsp\;<br />\n&nbsp\;<br />\n<strong>Topic</strong>: DEVELOPING OTHERS + PIT OF DESPAIR + EFFECTIVE LEARNING - Multiplying Yourself&nbsp\;<br />\n&nbsp\;<br />\nWhat are you doing to raise the capacity of those around you?&nbsp\;<br />\n&nbsp\;<br />\nMost of us don&rsquo\;t think about equipping others until it&rsquo\;s too late. It may be someone who leaves your team &amp\; leaves a void behind because no one else knows how to fill. It could be that your weekly load increases to the point that you need to offload important tasks to someone you can trust\, but it&rsquo\;s hard to find the time to do so. Sometimes it is because you&rsquo\;re working toward stepping away from the business or team in the near future &amp\; you want to ensure that they thrive even after you&rsquo\;re gone.&nbsp\;<br />\n&nbsp\;<br />\nWhatever the circumstance\, the &lsquo\;how&rsquo\; of equipping others is always where the pain is felt. Learn three tools that can help you effectively multiply into the lives of those you lead.&nbsp\;<br />\n&nbsp\;<br />\n&nbsp\;
LOCATION:Sunbury Big Walnut Chamber of Commerce
UID:e.295.6688
SEQUENCE:3
DTSTAMP:20260420T090950Z
URL:https://business.sunburybigwalnutchamber.com/events/details/ffbbob-may-5-6688
END:VEVENT

END:VCALENDAR
