BEGIN:VCALENDAR
VERSION:2.0
PRODID:-//ChamberMaster//Event Calendar 2.0//EN
METHOD:PUBLISH
X-PUBLISHED-TTL:P3D
REFRESH-INTERVAL:P3D
CALSCALE:GREGORIAN
BEGIN:VEVENT
DTSTART:20240202T130000Z
DTEND:20240202T140000Z
X-MICROSOFT-CDO-ALLDAYEVENT:FALSE
SUMMARY:First Friday Building Business Over Breakfast
DESCRIPTION:Join the Sunbury Big Walnut Chamber of Commerce as Lesley Doan presents.\nLesley Doan is a Certified Leadership Coach/Consultant with GiANT Worldwide and the Founder of Vivid Coaching and Consulting. She works with individuals\, teams and organizations helping them improve self awareness and communication. Specifically with teams\, Lesley helps them improve relationships\, communication\, alignment\, execution\, and capacity to maximize team performance. She works with clients 1:1\, facilitates workshops\, leads groups\, and works with all clients to identify their goals and the steps needed to achieve them. \n\n \n\nUnpacking the 5 Leadership Voices\n\nEveryone speaks but not everyone is heard. From the most quiet to the most gregarious\, we all have the ability to lead others. The problem is most people don't know their leadership voice or how to use it. Some don't know what it is\, others are insecure in their voice and have been told it is unimportant\, and others immaturely overuse their voice and dominate the airwaves. Welcome to the 5 Voices. \n\nThe 5 Voices is designed to help every individual discover their leadership voice and be empowered to use it effectively. We believe teams and whole organizations can be transformed when everyone operates securely in their own voice and learns to value the voices of others.
X-ALT-DESC;FMTTYPE=text/html:Join the Sunbury Big Walnut Chamber of Commerce as Lesley Doan presents.\n<p class="x_gmail-p1" style="color: rgb(36\, 36\, 36)\; font-family: &quot\;Segoe UI&quot\;\, &quot\;Segoe UI Web (West European)&quot\;\, &quot\;Segoe UI&quot\;\, -apple-system\, BlinkMacSystemFont\, Roboto\, &quot\;Helvetica Neue&quot\;\, sans-serif\; font-size: 15px\; background-color: rgb(255\, 255\, 255)\; margin: 0px 0px 4px\; font-variant-numeric: normal\; font-variant-east-asian: normal\; font-variant-alternates: normal\; font-kerning: auto\; font-feature-settings: normal\; font-stretch: normal\; line-height: normal\;"><font face="arial\, sans-serif">Lesley Doan is a Certified Leadership Coach/Consultant with GiANT Worldwide and the Founder of Vivid Coaching and Consulting.&nbsp\;She works with individuals\, teams and organizations helping them improve self awareness and communication. Specifically with teams\, Lesley helps them improve relationships\, communication\, alignment\, execution\, and capacity to maximize team performance. She works with clients 1:1\, facilitates workshops\, leads groups\, and works with all clients to identify their goals and the steps needed to achieve them.&nbsp\;</font><br />\n&nbsp\;</p>\n\n<p class="x_gmail-p1" style="color: rgb(36\, 36\, 36)\; font-family: &quot\;Segoe UI&quot\;\, &quot\;Segoe UI Web (West European)&quot\;\, &quot\;Segoe UI&quot\;\, -apple-system\, BlinkMacSystemFont\, Roboto\, &quot\;Helvetica Neue&quot\;\, sans-serif\; font-size: 15px\; background-color: rgb(255\, 255\, 255)\; margin: 0px 0px 4px\; font-variant-numeric: normal\; font-variant-east-asian: normal\; font-variant-alternates: normal\; font-kerning: auto\; font-feature-settings: normal\; font-stretch: normal\; line-height: normal\;"><font color="#000000" face="arial\, sans-serif">Unpacking the 5 Leadership Voices</font></p>\n\n<p class="x_gmail-p1" style="color: rgb(36\, 36\, 36)\; font-family: &quot\;Segoe UI&quot\;\, &quot\;Segoe UI Web (West European)&quot\;\, &quot\;Segoe UI&quot\;\, -apple-system\, BlinkMacSystemFont\, Roboto\, &quot\;Helvetica Neue&quot\;\, sans-serif\; font-size: 15px\; background-color: rgb(255\, 255\, 255)\; margin: 0px 0px 4px\; font-variant-numeric: normal\; font-variant-east-asian: normal\; font-variant-alternates: normal\; font-kerning: auto\; font-feature-settings: normal\; font-stretch: normal\; line-height: normal\;"><font color="#000000" face="arial\, sans-serif">Everyone speaks but not everyone is heard. From the most quiet to the most gregarious\, we all have the ability to lead others. The problem is most people don&rsquo\;t know their leadership voice or how to use it. Some don&rsquo\;t know what it is\, others are insecure in their voice and have been told it is unimportant\, and others immaturely overuse their voice and dominate the airwaves. Welcome to the 5 Voices.<span class="x_gmail-Apple-converted-space" style="border: 0px\; font: inherit\; margin: 0px\; padding: 0px\; vertical-align: baseline\; color: inherit\;">&nbsp\;</span></font></p>\n\n<p class="x_gmail-p2" style="color: rgb(36\, 36\, 36)\; font-family: &quot\;Segoe UI&quot\;\, &quot\;Segoe UI Web (West European)&quot\;\, &quot\;Segoe UI&quot\;\, -apple-system\, BlinkMacSystemFont\, Roboto\, &quot\;Helvetica Neue&quot\;\, sans-serif\; font-size: 15px\; background-color: rgb(255\, 255\, 255)\; margin: 0px\; font-variant-numeric: normal\; font-variant-east-asian: normal\; font-variant-alternates: normal\; font-kerning: auto\; font-feature-settings: normal\; font-stretch: normal\; line-height: normal\;"><font color="#000000" face="arial\, sans-serif">The 5 Voices is designed to help every individual discover their leadership voice and be empowered to use it effectively. We believe teams and whole organizations can be transformed when everyone operates securely in their own voice and learns to value the voices of others.</font></p>\n\n<div>&nbsp\;</div>\n
LOCATION:Sunbury Big Walnut Chamber of Commerce 39 E. Granville St Sunbury
UID:e.295.6759
SEQUENCE:3
DTSTAMP:20260419T190551Z
URL:https://business.sunburybigwalnutchamber.com/events/details/first-friday-building-business-over-breakfast-02-02-2024-6759
END:VEVENT

END:VCALENDAR
