BEGIN:VCALENDAR
VERSION:2.0
PRODID:-//ChamberMaster//Event Calendar 2.0//EN
METHOD:PUBLISH
X-PUBLISHED-TTL:P3D
REFRESH-INTERVAL:P3D
CALSCALE:GREGORIAN
BEGIN:VEVENT
DTSTART:20220902T120000Z
DTEND:20220902T130000Z
X-MICROSOFT-CDO-ALLDAYEVENT:FALSE
SUMMARY:First Friday Building Business Over Breakfast
DESCRIPTION:First Friday Building Business Over Breakfast- Please note that September and October speakers switched places.\n\n\n\nLesley Doan is a Certified Leadership Coach/Consultant with GiANT Worldwide and the Founder of Vivid Coaching and Consulting. \n\n \n\nHer background is in education as she spent 9 years as a teacher and administrator. She was also the Executive Director at a nonprofit in Canton\, OH for 4 years. She has always found herself in leadership roles where she can coach those around her to become better and grow in their skills and talents. \n\n \n\nShe was introduced to GiANT in 2017 and was hooked! She became more self-aware and a better communicator with those she was leading at home and work. In 2019 she decided to become a licensed coach and continue her journey to empower other leaders to become healthy so that they can multiply that heath to those they lead. \n\n \n\nSince that time\, she has been working with individuals\, teams and organizations helping them improve self awareness and communication. Specifically with teams\, she helps them improve relationships\, communication\, alignment\, execution\, and capacity to maximize team performance. \n\n \n\nShe works with clients 1:1\, facilitate workshops\, lead groups\, and work with her clients to identify their goals and the steps needed to achieve them. \n\n \n\n*** We will be learning about a tool called the Support/Challenge Matrix: \n\nLiberating Leadership is the standard we aim for both in work and in personal relationships. The Support/Challenge Matrix defines this standard and helps us make it a reality in our own lives. It requires us to bring high support AND high challenge to those we lead and love. That is how we create a culture of empowerment and opportunity that leads to high performance. ***
X-ALT-DESC;FMTTYPE=text/html:First Friday Building Business Over Breakfast- Please note that September and October speakers switched places.<br />\n<br />\nLesley Doan is a Certified Leadership Coach/Consultant with GiANT Worldwide and the Founder of Vivid Coaching and Consulting.&nbsp\;<br />\n&nbsp\;<br />\nHer background is in education as she spent 9 years as a teacher and administrator. She was also the Executive Director at a nonprofit in Canton\, OH for 4 years. She has always&nbsp\;found herself in leadership roles where she can coach those around her to become better and grow in their skills and talents.&nbsp\;<br />\n&nbsp\;<br />\nShe was introduced to GiANT in 2017 and was hooked! She became more self-aware and a better communicator with those she was leading at home and work. In 2019 she decided to become a licensed coach and continue her journey to empower other leaders to become healthy so that they can multiply&nbsp\;that heath to those they lead.&nbsp\;<br />\n&nbsp\;<br />\nSince that time\, she has been working with individuals\, teams and organizations helping them improve self awareness and communication. Specifically with teams\, she helps them improve relationships\, communication\, alignment\, execution\, and capacity to maximize team performance.&nbsp\;<br />\n&nbsp\;<br />\nShe works with clients 1:1\, facilitate workshops\, lead groups\, and work with her clients to identify their goals and the steps needed to achieve them.&nbsp\;<br />\n&nbsp\;<br />\n<span style="background:white\;"><span style="color:black\;"><span style="font-family:arial\,sans-serif\;">*** We will be learning about a tool called the Support/Challenge Matrix:&nbsp\;</span></span></span><br />\n<span style="background:white\;"><span style="color:black\;"><span style="font-family:arial\,sans-serif\;">Liberating Leadership is the standard we aim for both in work and in personal relationships. The Support/Challenge Matrix defines this standard and helps us make it a reality in our own lives. It requires us to bring high support AND high challenge to those we lead and love. That is how we create a culture of empowerment and opportunity that leads to high performance. ***</span></span></span><br />\n&nbsp\;<br />\n<br />\n&nbsp\;
LOCATION:Sunbury Big Walnut Chamber of Commerce
UID:e.295.6405
SEQUENCE:3
DTSTAMP:20260421T003720Z
URL:https://business.sunburybigwalnutchamber.com/events/details/first-friday-building-business-over-breakfast-6405
END:VEVENT

END:VCALENDAR
