BEGIN:VCALENDAR
VERSION:2.0
PRODID:-//ChamberMaster//Event Calendar 2.0//EN
METHOD:PUBLISH
X-PUBLISHED-TTL:P3D
REFRESH-INTERVAL:P3D
CALSCALE:GREGORIAN
BEGIN:VEVENT
DTSTART:20221104T120000Z
DTEND:20221104T130000Z
X-MICROSOFT-CDO-ALLDAYEVENT:FALSE
SUMMARY:First Friday Building Business Over Breakfast
DESCRIPTION:First Friday Building Business Over Breakfast\n\nJoin the chamber as SOCA teaches us about some of their programs and benefits that we are able to offer to you\, our members. This presentation will include our Chamber Energy program\, strategic HR\, and a brand new program to SOCA\, PartnerShip. Come and learn more about each of these programs and how they can benefit you and your employees.
X-ALT-DESC;FMTTYPE=text/html:First Friday Building Business Over Breakfast<br />\nJoin the chamber as SOCA teaches us about some of their programs and benefits that we are able to offer to you\, our members. This presentation will include our Chamber Energy program\, strategic HR\, and a brand new program to SOCA\, PartnerShip. Come and learn more about each of these programs and how they can benefit you and your employees.
LOCATION:Sunbury Big Walnut Chamber of Commerce 39 E. Granville St. Sunbury OR Zoom: Sunbury Chamber is inviting you to a scheduled Zoom meeting. Topic: SBW FFBBOB Time: Nov 4\, 2022 07:45 AM Eastern Time (US and Canada) Join Zoom Meeting https://us06web.zoom.us/j/6653714405?pwd=K3FoNWFLYXJ5ZzQzZEpFaTJsTFhPQT09 Meeting ID: 665 371 4405 Passcode: 749650 One tap mobile +13017158592\,\,6653714405#\,\,\,\,*749650# US (Washington DC) +13092053325\,\,6653714405#\,\,\,\,*749650# US Dial by your location +1 301 715 8592 US (Washington DC) +1 309 205 3325 US +1 312 626 6799 US (Chicago) +1 646 876 9923 US (New York) +1 646 931 3860 US +1 386 347 5053 US +1 408 638 0968 US (San Jose) +1 507 473 4847 US +1 564 217 2000 US +1 669 444 9171 US +1 669 900 6833 US (San Jose) +1 689 278 1000 US +1 719 359 4580 US +1 253 215 8782 US (Tacoma) +1 346 248 7799 US (Houston) +1 360 209 5623 US Meeting ID: 665 371 4405 Passcode: 749650 Find your local number: https://us06web.zoom.us/u/kcUWhUA3Z0
UID:e.295.6407
SEQUENCE:3
DTSTAMP:20260420T194901Z
URL:https://business.sunburybigwalnutchamber.com/events/details/first-friday-building-business-over-breakfast-6407
END:VEVENT

END:VCALENDAR
