BEGIN:VCALENDAR
VERSION:2.0
PRODID:-//ChamberMaster//Event Calendar 2.0//EN
METHOD:PUBLISH
X-PUBLISHED-TTL:P3D
REFRESH-INTERVAL:P3D
CALSCALE:GREGORIAN
BEGIN:VEVENT
DTSTART:20240906T120000Z
DTEND:20240906T130000Z
X-MICROSOFT-CDO-ALLDAYEVENT:FALSE
SUMMARY:First Friday Building Business Over Breakfast
DESCRIPTION:Join the Chamber for our FFBBOB series.\n\nAndy Volenik has been the Executive Director of Delaware County Transit since October 2022\, and since then has steadily implemented changes that have led to DCT having record-breaking ridership. Starting his career in 2009 as a Bus Operator at COTA\, Andy has spent the last 15 years serving central Ohio in various leadership roles within the transportation industry. Andy's proudest achievement is raising his daughters\, Camryn\, Elaina\, and Josephine in Delaware with his best friend and amazing partner of nearly 20 years\, Amanda.
X-ALT-DESC;FMTTYPE=text/html:Join the Chamber for our FFBBOB series.<br />\n<span style="font-family:arial\,sans-serif\;">Andy Volenik has been the Executive Director of Delaware County Transit since October 2022\, and since then has steadily implemented changes that have led to DCT having record-breaking ridership. Starting his career in 2009 as a Bus Operator at COTA\, Andy has spent the last 15 years serving central Ohio in various leadership roles within the transportation industry. Andy&#39\;s proudest achievement is raising his daughters\, Camryn\, Elaina\, and Josephine in Delaware with his best friend and amazing partner of nearly 20 years\, Amanda.&nbsp\;</span><br />\n&nbsp\;
LOCATION:Sunbury Big Walnut Chamber of Commerce 39 E Granville St Sunbury
UID:e.295.6781
SEQUENCE:3
DTSTAMP:20260419T135517Z
URL:https://business.sunburybigwalnutchamber.com/events/details/first-friday-building-business-over-breakfast-6781
END:VEVENT

END:VCALENDAR
