BEGIN:VCALENDAR
VERSION:2.0
PRODID:-//ChamberMaster//Event Calendar 2.0//EN
METHOD:PUBLISH
X-PUBLISHED-TTL:P3D
REFRESH-INTERVAL:P3D
CALSCALE:GREGORIAN
BEGIN:VEVENT
DTSTART:20250207T130000Z
DTEND:20250207T140000Z
X-MICROSOFT-CDO-ALLDAYEVENT:FALSE
SUMMARY:First Friday Building Business Over Breakfast
DESCRIPTION:Join us as we start the FFBBOB series for the new year. Our guest will be Shawn Weiss of Rockstar Wellness. \n\nTopic will be the 6 Pillars of Optimal Health.
X-ALT-DESC;FMTTYPE=text/html:Join us as we start the FFBBOB series for the new year. Our guest will be Shawn Weiss of Rockstar Wellness.&nbsp\;<br />\n<span style="font-family:aptos\,sans-serif\;"><span style="font-size:12.0pt\;">Topic will be the 6 Pillars of Optimal Health.</span></span>
LOCATION:Sunbury Big Walnut Chamber of Commerce 39 E Granville St Sunbury
UID:e.295.6981
SEQUENCE:3
DTSTAMP:20260419T235852Z
URL:https://business.sunburybigwalnutchamber.com/events/details/first-friday-building-business-over-breakfast-6981
END:VEVENT

END:VCALENDAR
