BEGIN:VCALENDAR
VERSION:2.0
PRODID:-//ChamberMaster//Event Calendar 2.0//EN
METHOD:PUBLISH
X-PUBLISHED-TTL:P3D
REFRESH-INTERVAL:P3D
CALSCALE:GREGORIAN
BEGIN:VEVENT
DTSTART:20250307T130000Z
DTEND:20250307T140000Z
X-MICROSOFT-CDO-ALLDAYEVENT:FALSE
SUMMARY:First Friday Building Business Over Breakfast
DESCRIPTION:Attorney Stacey Dettwiller will speak on the Corporate Transparency Act.  The Act is a new federal filing requirement for business owners which went into effect in January 2024 meant to target fraud and money laundering.  The Act requires most businesses to report certain ownership information to the Financial Crimes Enforcement Network (FinCEN) in order to remain compliant.  The reporting deadline for businesses in existence on or before January 1\, 2024 was December 31\, 2024\, and many business owners are either unaware of the requirement or unsure of the deadline.
X-ALT-DESC;FMTTYPE=text/html:<span style="font-family:aptos\,sans-serif\;"><span style="font-size:11.0pt\;">Attorney Stacey Dettwiller will speak on the Corporate Transparency Act.&nbsp\; The Act is a new federal filing requirement for business owners which went into effect in January 2024 meant to target fraud and money laundering.&nbsp\; The Act requires most businesses to report certain ownership information to the Financial Crimes Enforcement Network (FinCEN) in order to remain compliant.&nbsp\; The reporting deadline for businesses in existence on or before January 1\, 2024 was December 31\, 2024\, and many business owners are either unaware of the requirement or unsure of the deadline.</span></span>
LOCATION:Sunbury Big walnut Chamber of Commerce 39 E Granville Sunbury
UID:e.295.6983
SEQUENCE:3
DTSTAMP:20260419T235852Z
URL:https://business.sunburybigwalnutchamber.com/events/details/first-friday-building-business-over-breakfast-6983
END:VEVENT

END:VCALENDAR
