BEGIN:VCALENDAR
VERSION:2.0
PRODID:-//ChamberMaster//Event Calendar 2.0//EN
METHOD:PUBLISH
X-PUBLISHED-TTL:P3D
REFRESH-INTERVAL:P3D
CALSCALE:GREGORIAN
BEGIN:VEVENT
DTSTART:20250404T120000Z
DTEND:20250404T130000Z
X-MICROSOFT-CDO-ALLDAYEVENT:FALSE
SUMMARY:First Friday Building Business Over Breakfast
DESCRIPTION:Kelly Carey of Ohio Means Jobs will present on \n\n	Recruitment Assistance: Connecting employers with local talent pools and job seekers.\n	Training and Upskilling: Providing access to funding opportunities for employee training\, apprenticeships\, and professional development programs.\n	Fair-Chance Hiring: Helping businesses explore opportunities to engage untapped talent pools.\n	Retention Strategies: Collaborating to address workforce retention challenges through customized solutions.
X-ALT-DESC;FMTTYPE=text/html:Kelly Carey of Ohio Means Jobs will present on&nbsp\;\n<ul>\n	<li><strong>Recruitment Assistance</strong>: Connecting employers with local talent pools and job seekers.</li>\n	<li><strong>Training and Upskilling</strong>: Providing access to funding opportunities for employee training\, apprenticeships\, and professional development programs.</li>\n	<li><strong>Fair-Chance Hiring</strong>: Helping businesses explore opportunities to engage untapped talent pools.</li>\n	<li><strong>Retention Strategies</strong>: Collaborating to address workforce retention challenges through customized solutions.</li>\n</ul>\n
LOCATION:Sunbury Big Walnut Chamber of Commerce 39 E Granville Sunbury
UID:e.295.6985
SEQUENCE:3
DTSTAMP:20260420T014834Z
URL:https://business.sunburybigwalnutchamber.com/events/details/first-friday-building-business-over-breakfast-6985
END:VEVENT

END:VCALENDAR
