BEGIN:VCALENDAR
VERSION:2.0
PRODID:-//ChamberMaster//Event Calendar 2.0//EN
METHOD:PUBLISH
X-PUBLISHED-TTL:P3D
REFRESH-INTERVAL:P3D
CALSCALE:GREGORIAN
BEGIN:VEVENT
DTSTART:20250905T120000Z
DTEND:20250905T130000Z
X-MICROSOFT-CDO-ALLDAYEVENT:FALSE
SUMMARY:First Friday Building Business Over Breakfast
DESCRIPTION:First Friday Building Business Over Breakfast\n\nCornerstone of Hope\n\nHear about this amazing organization and how they serve those that grieve. We all grieve at some point in our life\, but we should never have to grieve alone. \n\nCornerstone of Hope also loves to collaborate with other businesses in the community so come and learn more and make a new connection.
X-ALT-DESC;FMTTYPE=text/html:First Friday Building Business Over Breakfast<br />\nCornerstone of Hope<br />\nHear about this amazing organization and how they serve those that grieve. We all grieve at some point in our life\, but we should never have to grieve alone.&nbsp\;<br />\nCornerstone of Hope also loves to collaborate with other businesses in the community so come and learn more and make a new connection.
LOCATION:Sunbury Big Walnut Chamber of Commerce 39 E Granville Sunbury
UID:e.295.6988
SEQUENCE:3
DTSTAMP:20260420T103820Z
URL:https://business.sunburybigwalnutchamber.com/events/details/first-friday-building-business-over-breakfast-6988
END:VEVENT

END:VCALENDAR
