BEGIN:VCALENDAR
VERSION:2.0
PRODID:-//ChamberMaster//Event Calendar 2.0//EN
METHOD:PUBLISH
X-PUBLISHED-TTL:P3D
REFRESH-INTERVAL:P3D
CALSCALE:GREGORIAN
BEGIN:VEVENT
DTSTART:20251003T120000Z
DTEND:20251003T130000Z
X-MICROSOFT-CDO-ALLDAYEVENT:FALSE
SUMMARY:First Friday Building Business Over Breakfast
DESCRIPTION:First Friday Building Business Over Breakfast\n\nHuntington Bank\n\nThey're going to cover Fraud Protection for business owners.
X-ALT-DESC;FMTTYPE=text/html:First Friday Building Business Over Breakfast<br />\nHuntington Bank<br />\n<span style="font-family:aptos\,sans-serif\;"><span style="font-size:12.0pt\;">They&#39\;re going to cover Fraud Protection for business owners.</span></span>
LOCATION:Sunbury Big Walnut Chamber of Commerce 39 E Granville Sunbury
UID:e.295.6990
SEQUENCE:3
DTSTAMP:20260420T123109Z
URL:https://business.sunburybigwalnutchamber.com/events/details/first-friday-building-business-over-breakfast-6990
END:VEVENT

END:VCALENDAR
