BEGIN:VCALENDAR
VERSION:2.0
PRODID:-//ChamberMaster//Event Calendar 2.0//EN
METHOD:PUBLISH
X-PUBLISHED-TTL:P3D
REFRESH-INTERVAL:P3D
CALSCALE:GREGORIAN
BEGIN:VEVENT
DTSTART:20230407T120000Z
DTEND:20230407T130000Z
X-MICROSOFT-CDO-ALLDAYEVENT:FALSE
SUMMARY:First Friday Building Business Over Breakfast - Sunbury BW Area Chamber Event
DESCRIPTION:BWC Programs & Claims Management\n\n\n\nJeff Little\, of Bureau of Workers' Compensation\, will be our guest speaker at our April First Friday Building Business Over Breakfast. He has had nearly 30 years in the industry\, working with employers\, state universities\, professional employer organizations and trade associations to manage claims\, assist with overall risk management\, and meet with key company personnel to implement policy improvements and various BWC alternative programs. Jeff obtained his Bachelor of Arts in Journalism from the Ohio State University and also holds the Associate in Risk Management insurance designation through the American Institute of Chartered Property Casualty Underwriters.\n\n\n\nJeff will share about the various rating option\, rebate programs\, and extensive list of safety services available to Ohio employers through the Ohio Bureau of Workers' Compensation. Jeff will also describe the claims process\, including the numerous players involved and helpful cost-contaminent strategies to assist employers in managing their workers' compensation exposure.
X-ALT-DESC;FMTTYPE=text/html:<span style="color: rgb(51\, 51\, 51)\; font-family: sans-serif\, Arial\, Verdana\, &quot\;Trebuchet MS&quot\;\; font-size: 13px\; background-color: rgb(255\, 255\, 255)\;">BWC Programs &amp\; Claims Management</span><br style="color: rgb(51\, 51\, 51)\; font-family: sans-serif\, Arial\, Verdana\, &quot\;Trebuchet MS&quot\;\; font-size: 13px\;" />\n<br style="color: rgb(51\, 51\, 51)\; font-family: sans-serif\, Arial\, Verdana\, &quot\;Trebuchet MS&quot\;\; font-size: 13px\;" />\n<span style="color: rgb(51\, 51\, 51)\; font-family: sans-serif\, Arial\, Verdana\, &quot\;Trebuchet MS&quot\;\; font-size: 13px\; background-color: rgb(255\, 255\, 255)\;">Jeff Little\, of Bureau of Workers&#39\; Compensation\, will be our guest speaker at our April First Friday Building Business Over Breakfast. He has had nearly 30 years in the industry\, working with employers\, state universities\, professional employer organizations and trade associations to manage claims\, assist with overall risk management\, and meet with key company personnel to implement policy improvements and various BWC alternative programs. Jeff obtained his Bachelor of Arts in Journalism from the Ohio State University and also holds the Associate in Risk Management insurance designation through the American Institute of Chartered Property Casualty Underwriters.</span><br style="color: rgb(51\, 51\, 51)\; font-family: sans-serif\, Arial\, Verdana\, &quot\;Trebuchet MS&quot\;\; font-size: 13px\;" />\n<br style="color: rgb(51\, 51\, 51)\; font-family: sans-serif\, Arial\, Verdana\, &quot\;Trebuchet MS&quot\;\; font-size: 13px\;" />\n<span style="color: rgb(51\, 51\, 51)\; font-family: sans-serif\, Arial\, Verdana\, &quot\;Trebuchet MS&quot\;\; font-size: 13px\; background-color: rgb(255\, 255\, 255)\;">Jeff will share about the various rating option\, rebate programs\, and extensive list of safety services available to Ohio employers through the Ohio Bureau of Workers&#39\; Compensation.&nbsp\;Jeff will also describe the claims process\, including the numerous players involved and helpful cost-contaminent strategies to assist employers in managing their workers&#39\; compensation exposure.</span>
LOCATION:Sunbury Big Walnut chamber of Commerce
UID:e.295.6687
SEQUENCE:3
DTSTAMP:20260420T105840Z
URL:https://business.sunburybigwalnutchamber.com/events/details/first-friday-building-business-over-breakfast-sunbury-bw-area-chamber-event-6687
END:VEVENT

END:VCALENDAR
