BEGIN:VCALENDAR
VERSION:2.0
PRODID:-//ChamberMaster//Event Calendar 2.0//EN
METHOD:PUBLISH
X-PUBLISHED-TTL:P3D
REFRESH-INTERVAL:P3D
CALSCALE:GREGORIAN
BEGIN:VEVENT
DTSTART:20230525T150000Z
DTEND:20230525T180000Z
X-MICROSOFT-CDO-ALLDAYEVENT:FALSE
SUMMARY:Food Trucks at the Community Library
DESCRIPTION:Kick off the Community Library's Summer Reading Challenge with lunch at the library! Hogback BBQ Pit and Adventure Bite Cuisine food trucks will be at the Community Library from 11:00am to 2:00pm. Stop by for a bite to eat and pick up a good book!
X-ALT-DESC;FMTTYPE=text/html:Kick off the Community Library&#39\;s Summer Reading Challenge with lunch at the library! Hogback BBQ Pit and Adventure Bite Cuisine food trucks will be at the Community Library from 11:00am to 2:00pm. Stop by for a bite to eat and pick up a good book!
LOCATION:Community Library 44 Burrer Drive\, Sunbury\, OH 43074
UID:e.295.6716
SEQUENCE:3
DTSTAMP:20260420T091839Z
URL:https://business.sunburybigwalnutchamber.com/events/details/food-trucks-at-the-community-library-6716
END:VEVENT

END:VCALENDAR
