BEGIN:VCALENDAR
VERSION:2.0
PRODID:-//ChamberMaster//Event Calendar 2.0//EN
METHOD:PUBLISH
X-PUBLISHED-TTL:P3D
REFRESH-INTERVAL:P3D
CALSCALE:GREGORIAN
BEGIN:VEVENT
DTSTART:20240903T150000Z
DTEND:20240903T210000Z
X-MICROSOFT-CDO-ALLDAYEVENT:FALSE
SUMMARY:FORE! Big Walnut Lacrosse Annual Golf Outing
DESCRIPTION:We are excited to announce our 4th annual FORE! Big Walnut Lacrosse golf outing benefitting Big Walnut Lacrosse. This year's event will be a three-person "All Birdies Count" scramble. Teams will consist of three players\, with two teams per hole. We look forward to seeing you on the links as we continue to help our kids #winbyahead.
X-ALT-DESC;FMTTYPE=text/html:We are excited to announce our 4th annual FORE! Big Walnut Lacrosse golf outing benefitting Big Walnut Lacrosse. This year&#39\;s event will be a three-person &quot\;All Birdies Count&quot\; scramble. Teams will consist of three players\, with two teams per hole. We look forward to seeing you on the links as we continue to help our kids #winbyahead.
LOCATION:NorthStar Golf Club
UID:e.295.6822
SEQUENCE:3
DTSTAMP:20260419T135358Z
URL:https://business.sunburybigwalnutchamber.com/events/details/fore-big-walnut-lacrosse-annual-golf-outing-6822
END:VEVENT

END:VCALENDAR
