BEGIN:VCALENDAR
VERSION:2.0
PRODID:-//ChamberMaster//Event Calendar 2.0//EN
METHOD:PUBLISH
X-PUBLISHED-TTL:P3D
REFRESH-INTERVAL:P3D
CALSCALE:GREGORIAN
BEGIN:VEVENT
DTSTART;VALUE=DATE:20250704
DTEND;VALUE=DATE:20250705
TRANSP:TRANSPARENT
X-MICROSOFT-CDO-ALLDAYEVENT:TRUE
SUMMARY:Fourth of July-Banners
DESCRIPTION:Although the event has gone away\, the parade must go on! Therefore\, we want folks to see your banners while they crowd around the square.
X-ALT-DESC;FMTTYPE=text/html:Although the event has gone away\, the parade must go on! Therefore\, we want folks to see your banners while they crowd around the square.
LOCATION:Light Poles on Cherry and Columbus Streets.
UID:e.295.7070
SEQUENCE:3
DTSTAMP:20260420T071426Z
URL:https://business.sunburybigwalnutchamber.com/events/details/fourth-of-july-banners-7070
END:VEVENT

END:VCALENDAR
