BEGIN:VCALENDAR
VERSION:2.0
PRODID:-//ChamberMaster//Event Calendar 2.0//EN
METHOD:PUBLISH
X-PUBLISHED-TTL:P3D
REFRESH-INTERVAL:P3D
CALSCALE:GREGORIAN
BEGIN:VEVENT
DTSTART:20251118T170000Z
DTEND:20251118T190000Z
X-MICROSOFT-CDO-ALLDAYEVENT:FALSE
SUMMARY:GGC Flooring Ribbon Cutting and Grand Opening
DESCRIPTION:Please come meet our newest business in Sunbury\, Ohio!\n\nThe Galbreath and Stacy families welcome you to their Ribbon Cutting and Open House celebration. Let's show them our hometown support by joining with us.   Ribbon Cutting at 12:30
X-ALT-DESC;FMTTYPE=text/html:Please come meet our newest business in Sunbury\, Ohio!<br />\nThe Galbreath and Stacy families welcome you to their Ribbon Cutting and Open House celebration. Let&#39\;s show them our hometown support by joining with us.&nbsp\; &nbsp\;Ribbon Cutting at 12:30
LOCATION:
UID:e.295.7127
SEQUENCE:3
DTSTAMP:20260420T155733Z
URL:https://business.sunburybigwalnutchamber.com/events/details/ggc-flooring-ribbon-cutting-and-grand-opening-7127
END:VEVENT

END:VCALENDAR
