BEGIN:VCALENDAR
VERSION:2.0
PRODID:-//ChamberMaster//Event Calendar 2.0//EN
METHOD:PUBLISH
X-PUBLISHED-TTL:P3D
REFRESH-INTERVAL:P3D
CALSCALE:GREGORIAN
BEGIN:VEVENT
DTSTART:20250220T130000Z
DTEND:20250220T140000Z
X-MICROSOFT-CDO-ALLDAYEVENT:FALSE
SUMMARY:Goodwill-Coffee & Conversation
DESCRIPTION:Join Goodwill for Coffee & Conversation\n\nEver wonder what happens to your old t-shirt when you donate it to Goodwill? Learn the answer to this and more questions while enjoying a cup of coffee\, conversation and opportunity to network.
X-ALT-DESC;FMTTYPE=text/html:Join Goodwill for Coffee &amp\; Conversation<br />\nEver wonder what happens to your old t-shirt when you donate it to Goodwill? Learn the answer to this and more questions while enjoying a cup of coffee\, conversation and opportunity to network.
LOCATION:Sunbury Big Walnut Chamber of Commerce 39 E Granville St Sunbury
UID:e.295.7001
SEQUENCE:3
DTSTAMP:20260419T222103Z
URL:https://business.sunburybigwalnutchamber.com/events/details/goodwill-coffee-conversation-7001
END:VEVENT

END:VCALENDAR
