BEGIN:VCALENDAR
VERSION:2.0
PRODID:-//ChamberMaster//Event Calendar 2.0//EN
METHOD:PUBLISH
X-PUBLISHED-TTL:P3D
REFRESH-INTERVAL:P3D
CALSCALE:GREGORIAN
BEGIN:VEVENT
DTSTART:20251119T230000Z
DTEND:20251120T010000Z
X-MICROSOFT-CDO-ALLDAYEVENT:FALSE
SUMMARY:Grief Matters: Honoring Holiday Grief
DESCRIPTION:Wondering how you will manage and honor your grief during the hustle and bustle of the holiday season? Learn about the benefits and limitations of various coping styles to determine if they might be a good fit for you. Suggestions for coping during the holidays\, activities for individuals and families\, and self-care tips will be shared as well.
X-ALT-DESC;FMTTYPE=text/html:Wondering how you will manage and honor your grief during the hustle and bustle of the holiday season? Learn about the benefits and limitations of various coping styles to determine if they might be a good fit for you. Suggestions for coping during the holidays\, activities for individuals and families\, and self-care tips will be shared as well.
LOCATION:Cornerstone of Hope 253 N. State Street\, Suite 200 Westerville\, Ohio 43081
UID:e.295.7115
SEQUENCE:3
DTSTAMP:20260420T135812Z
URL:https://business.sunburybigwalnutchamber.com/events/details/grief-matters-workshop-grief-and-compassion-11-19-2025-7115
END:VEVENT

END:VCALENDAR
