BEGIN:VCALENDAR
VERSION:2.0
PRODID:-//ChamberMaster//Event Calendar 2.0//EN
METHOD:PUBLISH
X-PUBLISHED-TTL:P3D
REFRESH-INTERVAL:P3D
CALSCALE:GREGORIAN
BEGIN:VEVENT
DTSTART:20230612T160000Z
DTEND:20230612T170000Z
X-MICROSOFT-CDO-ALLDAYEVENT:FALSE
SUMMARY:Kona Ice at the Library
DESCRIPTION:Cool off at the Community Library with a shaved ice from Kona Ice\, June 12th from 12:00-1:00pm!
X-ALT-DESC;FMTTYPE=text/html:Cool off at the Community Library with a shaved ice from Kona Ice\, June 12th from 12:00-1:00pm!
LOCATION:Community Library 44 Burrer Drive\, Sunbury\, OH 43074
UID:e.295.6718
SEQUENCE:3
DTSTAMP:20260420T073928Z
URL:https://business.sunburybigwalnutchamber.com/events/details/kona-ice-at-the-library-6718
END:VEVENT

END:VCALENDAR
