BEGIN:VCALENDAR
VERSION:2.0
PRODID:-//ChamberMaster//Event Calendar 2.0//EN
METHOD:PUBLISH
X-PUBLISHED-TTL:P3D
REFRESH-INTERVAL:P3D
CALSCALE:GREGORIAN
BEGIN:VEVENT
DTSTART:20251111T130000Z
DTEND:20251111T150000Z
X-MICROSOFT-CDO-ALLDAYEVENT:FALSE
SUMMARY:Leader as Coach
DESCRIPTION:At Ohio Leader Collective\, our Fall Series is designed to connect and equip growth-driven leaders with leadership sessions that matter. In this November live session we will unpack a foundational tool as a leader - listening. 85% of what leaders do involves communication\; only 25% of them have ever been trained in listening (Harvard Business Review). Join us on this journey as we provide tools and space to help you grow as a leader!
X-ALT-DESC;FMTTYPE=text/html:<span style="color:rgba(0\,20\,20\,var(--O42jJQ\,1))">At Ohio Leader Collective\, our Fall Series is designed to connect and equip growth-driven leaders with leadership sessions that matter. In this November live session we will unpack a foundational tool as a leader - listening. 85% of what leaders do involves communication\; only 25% of them have ever been trained in listening (Harvard Business Review). Join us on this journey as we provide tools and space to help you grow as a leader!</span>
LOCATION:Polaris CoHatch - 1554 Polaris Pkwy Columbus\, OH
UID:e.295.7124
SEQUENCE:3
DTSTAMP:20260420T155501Z
URL:https://business.sunburybigwalnutchamber.com/events/details/leader-as-coach-7124
END:VEVENT

END:VCALENDAR
