BEGIN:VCALENDAR
VERSION:2.0
PRODID:-//ChamberMaster//Event Calendar 2.0//EN
METHOD:PUBLISH
X-PUBLISHED-TTL:P3D
REFRESH-INTERVAL:P3D
CALSCALE:GREGORIAN
BEGIN:VEVENT
DTSTART:20230418T153000Z
DTEND:20230418T163000Z
X-MICROSOFT-CDO-ALLDAYEVENT:FALSE
SUMMARY:Lunch & Learn
DESCRIPTION:Lunch & Learn with Leadership Coach Lesley Doan\n\nTwo dates: April 18th & May 16th\n\nBring your own lunch\, and learn with Lesley!
X-ALT-DESC;FMTTYPE=text/html:Lunch &amp\; Learn with Leadership Coach Lesley Doan<br />\nTwo dates: April 18th &amp\; May 16th<br />\nBring your own lunch\, and learn with Lesley!
LOCATION:39 E. Granville St Sunbury Big Walnut Chamber of Commerce
UID:e.295.6706
SEQUENCE:3
DTSTAMP:20260420T105159Z
URL:https://business.sunburybigwalnutchamber.com/events/details/lunch-learn-04-18-2023-6706
END:VEVENT

END:VCALENDAR
