BEGIN:VCALENDAR
VERSION:2.0
PRODID:-//ChamberMaster//Event Calendar 2.0//EN
METHOD:PUBLISH
X-PUBLISHED-TTL:P3D
REFRESH-INTERVAL:P3D
CALSCALE:GREGORIAN
BEGIN:VEVENT
DTSTART:20230516T153000Z
DTEND:20230516T163000Z
X-MICROSOFT-CDO-ALLDAYEVENT:FALSE
SUMMARY:Lunch & Learn
DESCRIPTION:Lunch & Learn with Leadership Coach Lesley Doan\n\nTwo dates: April 18th & May 16th\n\nBring your own lunch\, and learn with Lesley!
X-ALT-DESC;FMTTYPE=text/html:<br />\n<span style="color: rgb(37\, 37\, 37)\; font-family: &quot\;Libre Baskerville&quot\;\, Arial\, Helvetica\, sans-serif\; font-size: 16px\; background-color: rgb(255\, 255\, 255)\;">Lunch &amp\; Learn with Leadership Coach Lesley Doan</span><br style="box-sizing: border-box\; color: rgb(37\, 37\, 37)\; font-family: &quot\;Libre Baskerville&quot\;\, Arial\, Helvetica\, sans-serif\; font-size: 16px\; background-color: rgb(255\, 255\, 255)\;" />\n<span style="color: rgb(37\, 37\, 37)\; font-family: &quot\;Libre Baskerville&quot\;\, Arial\, Helvetica\, sans-serif\; font-size: 16px\; background-color: rgb(255\, 255\, 255)\;">Two dates: April 18th &amp\; May 16th</span><br style="box-sizing: border-box\; color: rgb(37\, 37\, 37)\; font-family: &quot\;Libre Baskerville&quot\;\, Arial\, Helvetica\, sans-serif\; font-size: 16px\; background-color: rgb(255\, 255\, 255)\;" />\n<span style="color: rgb(37\, 37\, 37)\; font-family: &quot\;Libre Baskerville&quot\;\, Arial\, Helvetica\, sans-serif\; font-size: 16px\; background-color: rgb(255\, 255\, 255)\;">Bring your own lunch\, and learn with Lesley!</span>
LOCATION:Sunbury Big Walnut Chamber of Commerce 39 E. Granville St. Sunbury
UID:e.295.6707
SEQUENCE:3
DTSTAMP:20260420T090909Z
URL:https://business.sunburybigwalnutchamber.com/events/details/lunch-learn-6707
END:VEVENT

END:VCALENDAR
