BEGIN:VCALENDAR
VERSION:2.0
PRODID:-//ChamberMaster//Event Calendar 2.0//EN
METHOD:PUBLISH
X-PUBLISHED-TTL:P3D
REFRESH-INTERVAL:P3D
CALSCALE:GREGORIAN
BEGIN:VEVENT
DTSTART:20240930T160000Z
DTEND:20240930T170000Z
X-MICROSOFT-CDO-ALLDAYEVENT:FALSE
SUMMARY:Lunch & Learn
DESCRIPTION:Join us at the chamber and bring a bag lunch as we hear from The League of Women's Voters as they discuss issue #1 and also help answer questions about absentee voting and the election in general.
X-ALT-DESC;FMTTYPE=text/html:Join us at the chamber and bring a bag lunch as we hear from The League of Women&#39\;s Voters as they discuss issue #1 and also help answer questions about absentee voting and the election in general.
LOCATION:Sunbury Big Walnut Chamber of Commerce 39 E Granville St Sunbury
UID:e.295.6969
SEQUENCE:3
DTSTAMP:20260419T153038Z
URL:https://business.sunburybigwalnutchamber.com/events/details/lunch-learn-6969
END:VEVENT

END:VCALENDAR
