BEGIN:VCALENDAR
VERSION:2.0
PRODID:-//ChamberMaster//Event Calendar 2.0//EN
METHOD:PUBLISH
X-PUBLISHED-TTL:P3D
REFRESH-INTERVAL:P3D
CALSCALE:GREGORIAN
BEGIN:VEVENT
DTSTART:20250724T153000Z
DTEND:20250724T170000Z
X-MICROSOFT-CDO-ALLDAYEVENT:FALSE
SUMMARY:Lunch & Learn
DESCRIPTION:Chad Williams\, Director\, Adult Education of Delaware Area Career Center will be offering insight into programming and what DACC offers at the Adult and High School levels in addition to their customized training programs\, building business relationships and their collaboration with Big Walnut High Schools\,
X-ALT-DESC;FMTTYPE=text/html:Chad Williams\, Director\, Adult Education of Delaware Area Career Center will be offering insight into programming and what DACC offers at the Adult and High School levels in addition to their customized training programs\, building business relationships and their collaboration with Big Walnut High Schools\,
LOCATION:Sunbury Big Walnut Chamber of Commerce 39. E. Granville Street Sunbury\, Ohio 43074
UID:e.295.7071
SEQUENCE:3
DTSTAMP:20260420T071225Z
URL:https://business.sunburybigwalnutchamber.com/events/details/lunch-learn-7071
END:VEVENT

END:VCALENDAR
