BEGIN:VCALENDAR
VERSION:2.0
PRODID:-//ChamberMaster//Event Calendar 2.0//EN
METHOD:PUBLISH
X-PUBLISHED-TTL:P3D
REFRESH-INTERVAL:P3D
CALSCALE:GREGORIAN
BEGIN:VEVENT
DTSTART:20250729T150000Z
DTEND:20250729T160000Z
X-MICROSOFT-CDO-ALLDAYEVENT:FALSE
SUMMARY:Lunch & Learn
DESCRIPTION:Pack a lunch and join us to "Pack" in some great information with a College Workforce Overview at Columbus State Community College with Dale Gresson\, Executive Administrator of the Justice and Safety Division as our Guest Speaker.
X-ALT-DESC;FMTTYPE=text/html:Pack a lunch and join us to &quot\;Pack&quot\; in some great information with a College Workforce Overview at Columbus State Community College with Dale Gresson\, Executive Administrator of the Justice and Safety Division as our Guest Speaker.<br />\n&nbsp\;
LOCATION:Sunbury Big Walnut Chamber of Commerce 39 East Granville Street Sunbury\, Ohio 43074
UID:e.295.7072
SEQUENCE:3
DTSTAMP:20260420T071225Z
URL:https://business.sunburybigwalnutchamber.com/events/details/lunch-learn-7072
END:VEVENT

END:VCALENDAR
