BEGIN:VCALENDAR
VERSION:2.0
PRODID:-//ChamberMaster//Event Calendar 2.0//EN
METHOD:PUBLISH
X-PUBLISHED-TTL:P3D
REFRESH-INTERVAL:P3D
CALSCALE:GREGORIAN
BEGIN:VEVENT
DTSTART:20250819T153000Z
DTEND:20250819T170000Z
X-MICROSOFT-CDO-ALLDAYEVENT:FALSE
SUMMARY:Lunch & Learn
DESCRIPTION:Carry in or Pack a lunch to enjoy while we hear all about current and upcoming news within the Cohesive Teams series with Dorinda Byers\, Business Development Consultant with the Ohio Auditors office.\n\nThis is the first of 3 presentations which also include Time Management and Difficult Conversations.
X-ALT-DESC;FMTTYPE=text/html:<strong><em>Carry in or Pack a lunch </em></strong>to enjoy while we hear all about current and upcoming news within the Cohesive Teams series with Dorinda Byers\, Business Development Consultant with the Ohio Auditors office.<br />\nThis is the first of 3 presentations which also include Time Management and Difficult Conversations.
LOCATION:Sunbury Big Walnut Chamber of Commerce 39 East Granville Street Sunbury\, Ohio 43074
UID:e.295.7074
SEQUENCE:3
DTSTAMP:20260420T103551Z
URL:https://business.sunburybigwalnutchamber.com/events/details/lunch-learn-7074
END:VEVENT

END:VCALENDAR
