BEGIN:VCALENDAR
VERSION:2.0
PRODID:-//ChamberMaster//Event Calendar 2.0//EN
METHOD:PUBLISH
X-PUBLISHED-TTL:P3D
REFRESH-INTERVAL:P3D
CALSCALE:GREGORIAN
BEGIN:VEVENT
DTSTART:20251112T163000Z
DTEND:20251112T180000Z
X-MICROSOFT-CDO-ALLDAYEVENT:FALSE
SUMMARY:Lunch & Learn
DESCRIPTION:Dorinda Byers with the State Auditor's Office is coming back. Bring lunch and join us as she dives into "Difficult Conversations". This is a topic you won't want to miss.
X-ALT-DESC;FMTTYPE=text/html:Dorinda Byers with the State Auditor&#39\;s Office is coming back. Bring lunch and join us as she dives into &quot\;Difficult Conversations&quot\;. This is a topic you won&#39\;t want to miss.
LOCATION:Sunbury Big Walnut Chamber of Commerce 39 E Granville St Sunbury
UID:e.295.7116
SEQUENCE:3
DTSTAMP:20260420T135532Z
URL:https://business.sunburybigwalnutchamber.com/events/details/lunch-learn-7116
END:VEVENT

END:VCALENDAR
