BEGIN:VCALENDAR
VERSION:2.0
PRODID:-//ChamberMaster//Event Calendar 2.0//EN
METHOD:PUBLISH
X-PUBLISHED-TTL:P3D
REFRESH-INTERVAL:P3D
CALSCALE:GREGORIAN
BEGIN:VEVENT
DTSTART:20240213T163000Z
DTEND:20240213T173000Z
X-MICROSOFT-CDO-ALLDAYEVENT:FALSE
SUMMARY:Lunch & Learn (Leadership)
DESCRIPTION:Save the date(s)\n\nLesley Doan of Vivid Coaching will lead our Lunch & Learn series from February through May. \n\n \nSUPPORT CHALLENGE MATRIX + 5 CIRCLES OF INFLUENCE\n\nWhat Type of Leader Are You?\n\nWhat is it like to be on the other side of you and your leadership? Learn two tools that will help you understand how those you work & live with experience you on a regular basis. Learn where you default to (& how to not stay there)\, in addition to having a regular self check-in tool you can use to be a better leader moving forward!
X-ALT-DESC;FMTTYPE=text/html:Save the date(s)<br />\nLesley Doan of Vivid Coaching will lead our Lunch &amp\; Learn series from February through May.&nbsp\;<br />\n&nbsp\;\n<p style="color: rgb(36\, 36\, 36)\; font-family: &quot\;Segoe UI&quot\;\, &quot\;Segoe UI Web (West European)&quot\;\, &quot\;Segoe UI&quot\;\, -apple-system\, BlinkMacSystemFont\, Roboto\, &quot\;Helvetica Neue&quot\;\, sans-serif\; font-size: 15px\; background-color: rgb(255\, 255\, 255)\;"><span style="border: 0px\; font-style: inherit\; font-variant: inherit\; font-weight: 700\; font-stretch: inherit\; font-size: 11pt\; line-height: inherit\; font-family: OpenSans\; font-optical-sizing: inherit\; font-kerning: inherit\; font-feature-settings: inherit\; font-variation-settings: inherit\; margin: 0px\; padding: 0px\; vertical-align: baseline\; color: rgb(45\, 47\, 47)\;">SUPPORT CHALLENGE MATRIX + 5 CIRCLES OF INFLUENCE</span></p>\n\n<p style="color: rgb(36\, 36\, 36)\; font-family: &quot\;Segoe UI&quot\;\, &quot\;Segoe UI Web (West European)&quot\;\, &quot\;Segoe UI&quot\;\, -apple-system\, BlinkMacSystemFont\, Roboto\, &quot\;Helvetica Neue&quot\;\, sans-serif\; font-size: 15px\; background-color: rgb(255\, 255\, 255)\;"><span style="border: 0px\; font-style: inherit\; font-variant: inherit\; font-weight: 700\; font-stretch: inherit\; font-size: 11pt\; line-height: inherit\; font-family: OpenSans\; font-optical-sizing: inherit\; font-kerning: inherit\; font-feature-settings: inherit\; font-variation-settings: inherit\; margin: 0px\; padding: 0px\; vertical-align: baseline\; color: rgb(45\, 47\, 47)\;">What Type of Leader Are You?</span></p>\n\n<p style="color: rgb(36\, 36\, 36)\; font-family: &quot\;Segoe UI&quot\;\, &quot\;Segoe UI Web (West European)&quot\;\, &quot\;Segoe UI&quot\;\, -apple-system\, BlinkMacSystemFont\, Roboto\, &quot\;Helvetica Neue&quot\;\, sans-serif\; font-size: 15px\; background-color: rgb(255\, 255\, 255)\;"><span style="border: 0px\; font-style: inherit\; font-variant: inherit\; font-weight: inherit\; font-stretch: inherit\; font-size: 11pt\; line-height: inherit\; font-family: OpenSans\; font-optical-sizing: inherit\; font-kerning: inherit\; font-feature-settings: inherit\; font-variation-settings: inherit\; margin: 0px\; padding: 0px\; vertical-align: baseline\; color: rgb(45\, 47\, 47)\;">What is it like to be on the other side of you and your leadership? Learn two tools that will help you understand how those you work &amp\; live with experience you on a regular basis. Learn where you default to (&amp\; how to not stay there)\, in addition to having a regular self check-in tool you can use to be a better leader moving forward!</span></p>\n
LOCATION:Sunbury Big Walnut Chamber of Commerce 39 E Granville St Sunbury
UID:e.295.6762
SEQUENCE:3
DTSTAMP:20260419T172546Z
URL:https://business.sunburybigwalnutchamber.com/events/details/lunch-learn-leadership-6762
END:VEVENT

END:VCALENDAR
