BEGIN:VCALENDAR
VERSION:2.0
PRODID:-//ChamberMaster//Event Calendar 2.0//EN
METHOD:PUBLISH
X-PUBLISHED-TTL:P3D
REFRESH-INTERVAL:P3D
CALSCALE:GREGORIAN
BEGIN:VEVENT
DTSTART:20250327T220000Z
DTEND:20250328T000000Z
X-MICROSOFT-CDO-ALLDAYEVENT:FALSE
SUMMARY:Market Insights
DESCRIPTION:Market Insights\n\nHosted by\n\nMoney Concepts Sunbury\n\nWith Regional Vice President\n\nAsa Wood\, Jackson National\n\n\n\nOpen to everyone
X-ALT-DESC;FMTTYPE=text/html:Market Insights<br />\nHosted by<br />\nMoney Concepts Sunbury<br />\nWith Regional Vice President<br />\nAsa Wood\, Jackson National<br />\n<br />\nOpen to everyone
LOCATION:Money Concepts Sunbury 40 S. Vernon St Sunbury
UID:e.295.7014
SEQUENCE:3
DTSTAMP:20260420T014726Z
URL:https://business.sunburybigwalnutchamber.com/events/details/market-insights-7014
END:VEVENT

END:VCALENDAR
