BEGIN:VCALENDAR
VERSION:2.0
PRODID:-//ChamberMaster//Event Calendar 2.0//EN
METHOD:PUBLISH
X-PUBLISHED-TTL:P3D
REFRESH-INTERVAL:P3D
CALSCALE:GREGORIAN
BEGIN:VEVENT
DTSTART:20250430T220000Z
DTEND:20250501T000000Z
X-MICROSOFT-CDO-ALLDAYEVENT:FALSE
SUMMARY:Monthly Educational Workshop: Journaling Through Grief
DESCRIPTION:Research shows that writing can be a helpful strategy to work through situations and struggles\, including grief and loss. Participants in this session will learn more about the benefits of writing to explore different ways we can write to express our feelings\, preserve memories of loved ones through expression\, and discuss our experiences with others who are facing similar challenges in their grief. This session will include creative and journal-based writing prompts\, discussion\, and education about healthy coping skills. Supplies will be provided\, but participants are welcome to bring their own journal as well.
X-ALT-DESC;FMTTYPE=text/html:Research shows that writing can be a helpful strategy to work through situations and struggles\, including grief and loss. Participants in this session will learn more about the benefits of writing to explore different ways we can write to express our feelings\, preserve memories of loved ones through expression\, and discuss our experiences with others who are facing similar challenges in their grief. This session will include creative and journal-based writing prompts\, discussion\, and education about healthy coping skills. Supplies will be provided\, but participants are welcome to bring their own journal as well.
LOCATION:253 North State Street Suite 200 Westerville\, OH 43081 Free Parking surrounding the building.
UID:e.295.7007
SEQUENCE:3
DTSTAMP:20260420T014552Z
URL:https://business.sunburybigwalnutchamber.com/events/details/monthly-educational-workshop-journaling-through-grief-7007
END:VEVENT

END:VCALENDAR
