BEGIN:VCALENDAR
VERSION:2.0
PRODID:-//ChamberMaster//Event Calendar 2.0//EN
METHOD:PUBLISH
X-PUBLISHED-TTL:P3D
REFRESH-INTERVAL:P3D
CALSCALE:GREGORIAN
BEGIN:VEVENT
DTSTART:20250326T220000Z
DTEND:20250327T000000Z
X-MICROSOFT-CDO-ALLDAYEVENT:FALSE
SUMMARY:Monthly Educational Workshop: Picking Up the Pieces - Honoring Grief and Connection through the Art of Kintsugi
DESCRIPTION:What do you do with the pieces of a favorite dish or cherished antique when it has broken? Rather than discard an item because it is damaged and seems no longer valuable\, the ancient Japanese Art of Kintsugi repairs these broken pieces. Meaning "golden joinery\," Kintsugi encourages us to embrace and honor the damage as a beautiful\, valuable part of an item's history. This is a powerful metaphor for the experience of healing. \n\n\n\nPlease join us for an evening of grief education\, support\, and therapeutic art. Participants will take home their own Kintsugi piece at the end of the event.
X-ALT-DESC;FMTTYPE=text/html:What do you do with the pieces of a favorite dish or cherished antique when it has broken? Rather than discard an item because it is damaged and seems no longer valuable\, the ancient Japanese Art of Kintsugi repairs these broken pieces. Meaning &ldquo\;golden joinery\,&rdquo\; Kintsugi encourages us to embrace and honor the damage as a beautiful\, valuable part of an item&rsquo\;s history. This is a powerful metaphor for the experience of healing.&nbsp\;<br />\n<br />\nPlease join us for an evening of grief education\, support\, and therapeutic art. Participants will take home their own Kintsugi piece at the end of the event.
LOCATION:Cornerstone of Hope 253 N. State Street Suite 200 Westerville\, Ohio 43081 Free parking surrounding the building.
UID:e.295.7008
SEQUENCE:3
DTSTAMP:20260420T001753Z
URL:https://business.sunburybigwalnutchamber.com/events/details/monthly-educational-workshop-picking-up-the-pieces-honoring-grief-and-connection-through-the-art-of-kintsugi-7008
END:VEVENT

END:VCALENDAR
