BEGIN:VCALENDAR
VERSION:2.0
PRODID:-//ChamberMaster//Event Calendar 2.0//EN
METHOD:PUBLISH
X-PUBLISHED-TTL:P3D
REFRESH-INTERVAL:P3D
CALSCALE:GREGORIAN
BEGIN:VEVENT
DTSTART:20250528T220000Z
DTEND:20250529T000000Z
X-MICROSOFT-CDO-ALLDAYEVENT:FALSE
SUMMARY:Monthly Educational Workshop: Prayer Practices When You Grieve
DESCRIPTION:When we grieve\, prayers can sometimes seem dry and empty. We can feel distant from God\, or uncertain how to pray.  Please join us as we learn new prayer practices and new ways to connect with our Lord\, including imaginative prayer\, breath prayer\, body prayer\, and others.  We look forward to praying with you!\n\n\n\nPresented by Annie Dalby\, LISW-S\n\nAnnie has practiced social work for over thirty years and has served as a spiritual director since 2009. She holds a master's degree in clinical social work from OSU and a Certificate of Completion from Wellstreams Ecumenical Training Program of Spiritual Formation and Development.
X-ALT-DESC;FMTTYPE=text/html:When we grieve\, prayers can sometimes seem dry and empty. We can feel distant from God\, or uncertain how to pray.&nbsp\; Please join us as we learn new prayer practices and new ways to connect with our Lord\, including imaginative prayer\, breath prayer\, body prayer\, and others.&nbsp\; We look forward to praying with you!<br />\n<br />\nPresented by Annie Dalby\, LISW-S<br />\nAnnie has practiced social work for over thirty years and has served as a spiritual director since 2009. She holds a master&rsquo\;s degree in clinical social work from OSU and a Certificate of Completion from Wellstreams Ecumenical Training Program of Spiritual Formation and Development.
LOCATION:Cornerstone of Hope\, Columbus 253 N. State Street\, Suite 200 Westerville\, Ohio 43081 Free parking surrounding the building.
UID:e.295.7009
SEQUENCE:3
DTSTAMP:20260420T053028Z
URL:https://business.sunburybigwalnutchamber.com/events/details/monthly-educational-workshop-prayer-practices-when-you-grieve-7009
END:VEVENT

END:VCALENDAR
