BEGIN:VCALENDAR
VERSION:2.0
PRODID:-//ChamberMaster//Event Calendar 2.0//EN
METHOD:PUBLISH
X-PUBLISHED-TTL:P3D
REFRESH-INTERVAL:P3D
CALSCALE:GREGORIAN
BEGIN:VEVENT
DTSTART:20230513T170000Z
DTEND:20230513T183000Z
X-MICROSOFT-CDO-ALLDAYEVENT:FALSE
SUMMARY:Mother's Day Tea
DESCRIPTION:Annual Mother's Day Tea in historic 1916 to 1824 part of the Myers Stagecoach Inn in downtown Sunbury the day before Mother's Day.  Homemade savories\, scones and sweets will be served.
X-ALT-DESC;FMTTYPE=text/html:Annual Mother&#39\;s Day Tea in historic 1916 to 1824 part of the Myers Stagecoach Inn in downtown Sunbury the day before Mother&#39\;s Day.&nbsp\; Homemade savories\, scones and sweets will be served.
LOCATION:In Myers Inn at the corner of Columbus and Granville Streets facing Sunbury\, Square.
UID:e.295.6710
SEQUENCE:3
DTSTAMP:20260420T091727Z
URL:https://business.sunburybigwalnutchamber.com/events/details/mother-s-day-tea-05-13-2023-6710
END:VEVENT

END:VCALENDAR
