BEGIN:VCALENDAR
VERSION:2.0
PRODID:-//ChamberMaster//Event Calendar 2.0//EN
METHOD:PUBLISH
X-PUBLISHED-TTL:P3D
REFRESH-INTERVAL:P3D
CALSCALE:GREGORIAN
BEGIN:VEVENT
DTSTART:20230609T120000Z
DTEND:20230609T130000Z
X-MICROSOFT-CDO-ALLDAYEVENT:FALSE
SUMMARY:New Member Meet & Greet
DESCRIPTION:New members are invited to meet the Board and staff at the Chamber for a continental breakfast and an opportunuity to learn more about what we can do for you\, and allow us to get to know you better as well.
X-ALT-DESC;FMTTYPE=text/html:New members are invited to meet the Board and staff at the Chamber for a continental breakfast and an opportunuity to learn more about what we can do for you\, and allow us to get to know you better as well.
LOCATION:Sunbury Big Walnut Chamber of Commerce 39 E. Granville St. Sunbury
UID:e.295.6712
SEQUENCE:3
DTSTAMP:20260420T075009Z
URL:https://business.sunburybigwalnutchamber.com/events/details/new-member-meet-greet-06-09-2023-6712
END:VEVENT

END:VCALENDAR
