BEGIN:VCALENDAR
VERSION:2.0
PRODID:-//ChamberMaster//Event Calendar 2.0//EN
METHOD:PUBLISH
X-PUBLISHED-TTL:P3D
REFRESH-INTERVAL:P3D
CALSCALE:GREGORIAN
BEGIN:VEVENT
DTSTART:20240920T120000Z
DTEND:20240920T130000Z
X-MICROSOFT-CDO-ALLDAYEVENT:FALSE
SUMMARY:New Member Meet & Greet
DESCRIPTION:Did you join the chamber this year? We are honored you have joined the Sunbury Big Walnut Chamber of Commerce. Please join us for a continental breakfast and an opportunity to meet the staff\, board\, and other new members.
X-ALT-DESC;FMTTYPE=text/html:Did you join the chamber this year? We are honored you have joined the Sunbury Big Walnut Chamber of Commerce. Please join us for a continental breakfast and an opportunity to meet the staff\, board\, and other new members.
LOCATION:Sunbury Big Walnut Chamber of Commerce 39 E Granville St Sunbury
UID:e.295.6788
SEQUENCE:3
DTSTAMP:20260419T135815Z
URL:https://business.sunburybigwalnutchamber.com/events/details/new-member-meet-greet-09-20-2024-6788
END:VEVENT

END:VCALENDAR
