BEGIN:VCALENDAR
VERSION:2.0
PRODID:-//ChamberMaster//Event Calendar 2.0//EN
METHOD:PUBLISH
X-PUBLISHED-TTL:P3D
REFRESH-INTERVAL:P3D
CALSCALE:GREGORIAN
BEGIN:VEVENT
DTSTART:20250613T120000Z
DTEND:20250613T130000Z
X-MICROSOFT-CDO-ALLDAYEVENT:FALSE
SUMMARY:New Member Meet & Greet
DESCRIPTION:New Member Meet & Greet\n\nJoin the Chamber recently? Come and say hi\, meet the staff and board members. Been with the Chamber for a while? Come and share your experience with the newbies.
X-ALT-DESC;FMTTYPE=text/html:New Member Meet &amp\; Greet<br />\n<span style="color: rgb(51\, 51\, 51)\; font-family: sans-serif\, Arial\, Verdana\, &quot\;Trebuchet MS&quot\;\; font-size: 13px\; background-color: rgb(255\, 255\, 255)\;">Join the Chamber recently? Come and say hi\, meet the staff and board members. Been with the Chamber for a while? Come and share your experience with the newbies.</span>
LOCATION:Sunbury Big walnut Chamber of Commerce 39 E Granville Sunbury
UID:e.295.6987
SEQUENCE:3
DTSTAMP:20260420T053705Z
URL:https://business.sunburybigwalnutchamber.com/events/details/new-member-meet-greet-6987
END:VEVENT

END:VCALENDAR
