BEGIN:VCALENDAR
VERSION:2.0
PRODID:-//ChamberMaster//Event Calendar 2.0//EN
METHOD:PUBLISH
X-PUBLISHED-TTL:P3D
REFRESH-INTERVAL:P3D
CALSCALE:GREGORIAN
BEGIN:VEVENT
DTSTART:20241009T223000Z
DTEND:20241010T000000Z
X-MICROSOFT-CDO-ALLDAYEVENT:FALSE
SUMMARY:On Wednesdays\, We Wear Pink
DESCRIPTION:Join us for a memorable evening dedicated to raising awareness for the fight against breast cancer. This event will support Making Strides Against Breast Cancer in Columbus\, a cause that unites our community in hope\, strength\, and determination.\n\nHear from Jessica Cudlin\, Breast Cancer Survivor\, Chamber Member\, and MSABC Executive Committee Member\, who will share their inspiring story of strength and perseverance. Isabelle Castillo-Anderson\, Senior Develpoment Manager of The American Cancer Society\, who will share ways you can get involved in the community.\n\nDress Code: Pink attire is encouraged! Let's fill the room with shades of pink to show our solidarity and support for those affected by breast cancer.\n\nWhy Attend? This event is not just about raising funds and volunteer efforts\; it's about coming together as a community to support those who have been affected by breast cancer. Your attendance and contributions will make a difference in the lives of many. Let's make strides together!
X-ALT-DESC;FMTTYPE=text/html:Join us for a memorable evening dedicated to raising awareness for the fight against breast cancer. This event will support Making Strides Against Breast Cancer in Columbus\, a cause that unites our community in hope\, strength\, and determination.<br />\nHear from Jessica Cudlin\, Breast Cancer Survivor\, Chamber Member\, and MSABC Executive Committee Member\, who will share their inspiring story of strength and perseverance. Isabelle Castillo-Anderson\, Senior Develpoment Manager of The American Cancer Society\, who will share ways you can get involved in the community.<br />\n<strong>Dress Code</strong>: Pink attire is encouraged! Let&#39\;s fill the room with shades of pink to show our solidarity and support for those affected by breast cancer.<br />\n<strong>Why Attend?</strong> This event is not just about raising funds and volunteer efforts\; it&#39\;s about coming together as a community to support those who have been affected by breast cancer. Your attendance and contributions will make a difference in the lives of many. Let&#39\;s make strides together!
LOCATION:Sunbury Big Walnut Chamber of Commerce 39 E Granville St. Sunbury
UID:e.295.6970
SEQUENCE:3
DTSTAMP:20260419T155145Z
URL:https://business.sunburybigwalnutchamber.com/events/details/on-wednesdays-we-wear-pink-6970
END:VEVENT

END:VCALENDAR
