BEGIN:VCALENDAR
VERSION:2.0
PRODID:-//ChamberMaster//Event Calendar 2.0//EN
METHOD:PUBLISH
X-PUBLISHED-TTL:P3D
REFRESH-INTERVAL:P3D
CALSCALE:GREGORIAN
BEGIN:VEVENT
DTSTART:20231021T133000Z
DTEND:20231021T150000Z
X-MICROSOFT-CDO-ALLDAYEVENT:FALSE
SUMMARY:Paws & Pumpkins Pet Parade
DESCRIPTION:Paws & Pumpkins\n\nPet Costume Parade
X-ALT-DESC;FMTTYPE=text/html:Paws &amp\; Pumpkins<br />\nPet Costume Parade
LOCATION:Sunbury Square (Cherry St)
UID:e.295.6754
SEQUENCE:3
DTSTAMP:20260420T001415Z
URL:https://business.sunburybigwalnutchamber.com/events/details/paws-pumpkins-pet-parade-6754
END:VEVENT

END:VCALENDAR
