BEGIN:VCALENDAR
VERSION:2.0
PRODID:-//ChamberMaster//Event Calendar 2.0//EN
METHOD:PUBLISH
X-PUBLISHED-TTL:P3D
REFRESH-INTERVAL:P3D
CALSCALE:GREGORIAN
BEGIN:VEVENT
DTSTART:20251108T143000Z
DTEND:20251108T183000Z
X-MICROSOFT-CDO-ALLDAYEVENT:FALSE
SUMMARY:Prayer Practices for Those Who Grieve: A Half Day Retreat for Adults
DESCRIPTION:This free retreat is specially designed for adults who are navigating grief and longing for spiritual connection. Whether your prayer life has been disrupted by loss or you're simply seeking new ways to draw closer to God\, this sacred space offers time to pause\, reflect\, and be renewed.\n\n\n\nAttendees will experience:\n\n	Quiet\, personal prayer and meaningful group reflection\n	Guided experiences in forms of prayer such as Lectio Divina\, Breath Prayer\, Body Prayer\, The Examen\, Imaginative Prayer\, Chanting\, and Journaling\n	Time for discussion and spiritual companionship\n	A closing communal prayer service\n\n\n\nFacilitated by Annie Dalby\, LISW-S\, Spiritual Director and Social Worker.
X-ALT-DESC;FMTTYPE=text/html:This free retreat is specially designed for adults who are navigating grief and longing for spiritual connection. Whether your prayer life has been disrupted by loss or you&rsquo\;re simply seeking new ways to draw closer to God\, this sacred space offers time to pause\, reflect\, and be renewed.<br />\n<br />\nAttendees will experience:\n<ul>\n	<li>Quiet\, personal prayer and meaningful group reflection</li>\n	<li>Guided experiences in forms of prayer such as Lectio Divina\, Breath Prayer\, Body Prayer\, The Examen\, Imaginative Prayer\, Chanting\, and Journaling</li>\n	<li>Time for discussion and spiritual companionship</li>\n	<li>A closing communal prayer service</li>\n</ul>\n<br />\nFacilitated by Annie Dalby\, LISW-S\, Spiritual Director and Social Worker.
LOCATION:Cornerstone of Hope 253 N. State Street\, Suite 200 Westerville\, Ohio 43081
UID:e.295.7125
SEQUENCE:3
DTSTAMP:20260420T155734Z
URL:https://business.sunburybigwalnutchamber.com/events/details/prayer-practices-for-those-who-grieve-a-half-day-retreat-for-adults-7125
END:VEVENT

END:VCALENDAR
