BEGIN:VCALENDAR
VERSION:2.0
PRODID:-//ChamberMaster//Event Calendar 2.0//EN
METHOD:PUBLISH
X-PUBLISHED-TTL:P3D
REFRESH-INTERVAL:P3D
CALSCALE:GREGORIAN
BEGIN:VEVENT
DTSTART:20230804T113000Z
DTEND:20230804T130000Z
X-MICROSOFT-CDO-ALLDAYEVENT:FALSE
SUMMARY:Quarterly Breakfast
DESCRIPTION:Join the Chamber for our Quarterly Breakfast with guest speaker\, Superintendent Ryan McLane\, of Big Walnut School District.
X-ALT-DESC;FMTTYPE=text/html:Join the Chamber for our Quarterly Breakfast with guest speaker\, Superintendent Ryan McLane\, of Big Walnut School District.
LOCATION:Big Walnut Grill
UID:e.295.6721
SEQUENCE:3
DTSTAMP:20260420T055321Z
URL:https://business.sunburybigwalnutchamber.com/events/details/quarterly-breakfast-6721
END:VEVENT

END:VCALENDAR
