BEGIN:VCALENDAR
VERSION:2.0
PRODID:-//ChamberMaster//Event Calendar 2.0//EN
METHOD:PUBLISH
X-PUBLISHED-TTL:P3D
REFRESH-INTERVAL:P3D
CALSCALE:GREGORIAN
BEGIN:VEVENT
DTSTART:20240223T123000Z
DTEND:20240223T140000Z
X-MICROSOFT-CDO-ALLDAYEVENT:FALSE
SUMMARY:Quarterly Breakfast
DESCRIPTION:Join the chamber for our first Quarterly Breakfast of the year.\n\nODOT will be our guest and present on the improvements with the Sunbury Parkway. We will also hear from Sunbury City Administrator\, Daryl Hennessy.
X-ALT-DESC;FMTTYPE=text/html:Join the chamber for our first Quarterly Breakfast of the year.<br />\nODOT will be our guest and present on the improvements with the Sunbury Parkway. We will also hear from Sunbury City Administrator\, Daryl Hennessy.
LOCATION:Big Walnut Grill Sunbury
UID:e.295.6767
SEQUENCE:3
DTSTAMP:20260419T172539Z
URL:https://business.sunburybigwalnutchamber.com/events/details/quarterly-breakfast-6767
END:VEVENT

END:VCALENDAR
