BEGIN:VCALENDAR
VERSION:2.0
PRODID:-//ChamberMaster//Event Calendar 2.0//EN
METHOD:PUBLISH
X-PUBLISHED-TTL:P3D
REFRESH-INTERVAL:P3D
CALSCALE:GREGORIAN
BEGIN:VEVENT
DTSTART:20240802T113000Z
DTEND:20240802T130000Z
X-MICROSOFT-CDO-ALLDAYEVENT:FALSE
SUMMARY:Quarterly Breakfast
DESCRIPTION:Join the Chamber for our Quarterly Breakfast. Our guests will represent Big Walnut municipalities and provide a community update. Guest speakers include Sunbury Mayor Joe St. John\, Galena Mayor Jeff Kinnell\, and Berkshire Township Administrator Tyler Lane.
X-ALT-DESC;FMTTYPE=text/html:Join the Chamber for our Quarterly Breakfast. Our guests will represent Big Walnut municipalities and provide a community update. Guest speakers include Sunbury Mayor Joe St. John\, Galena Mayor Jeff Kinnell\, and Berkshire Township Administrator Tyler Lane.
LOCATION:AD Farrow Harley Davidson Second floor event space
UID:e.295.6780
SEQUENCE:3
DTSTAMP:20260419T121227Z
URL:https://business.sunburybigwalnutchamber.com/events/details/quarterly-breakfast-6780
END:VEVENT

END:VCALENDAR
