BEGIN:VCALENDAR
VERSION:2.0
PRODID:-//ChamberMaster//Event Calendar 2.0//EN
METHOD:PUBLISH
X-PUBLISHED-TTL:P3D
REFRESH-INTERVAL:P3D
CALSCALE:GREGORIAN
BEGIN:VEVENT
DTSTART:20250822T113000Z
DTEND:20250822T133000Z
X-MICROSOFT-CDO-ALLDAYEVENT:FALSE
SUMMARY:Quarterly Breakfast
DESCRIPTION:Please join us for this informational member supported morning.  You will be updated on our community and be included to vote on our amended By-laws here at the Chamber.\n\nAs always\, Big Walnut Grill will prepare a delicious buffet selection.\n\nSpeakers-\n\nSunbury and Galena Mayors\n\nAdministrators/Trustees from Berkshire\, Genoa and Harlem Townships\n\nBig Walnut Superintendent \n\nExecutive Director from Delaware County Transit-FLEX
X-ALT-DESC;FMTTYPE=text/html:<span style="font-size:16px\;"><span style="color:#0000FF\;">Please join us for this informational member supported morning.&nbsp\; You will be updated on our community and be included to vote on our amended By-laws here at the Chamber.</span><br />\n<em>As always\, Big Walnut Grill will prepare a delicious buffet selection.<br />\nSpeakers-<br />\nSunbury and Galena Mayors<br />\nAdministrators/Trustees from Berkshire\, Genoa and Harlem Townships<br />\nBig Walnut Superintendent&nbsp\;<br />\nExecutive Director from Delaware County Transit-FLEX</em></span>
LOCATION:Big Walnut Grill 175 OH-3 Sunbury\, OH 43074
UID:e.295.7081
SEQUENCE:3
DTSTAMP:20260420T090123Z
URL:https://business.sunburybigwalnutchamber.com/events/details/quarterly-breakfast-7081
END:VEVENT

END:VCALENDAR
