BEGIN:VCALENDAR
VERSION:2.0
PRODID:-//ChamberMaster//Event Calendar 2.0//EN
METHOD:PUBLISH
X-PUBLISHED-TTL:P3D
REFRESH-INTERVAL:P3D
CALSCALE:GREGORIAN
BEGIN:VEVENT
DTSTART:20230224T123000Z
DTEND:20230224T140000Z
X-MICROSOFT-CDO-ALLDAYEVENT:FALSE
SUMMARY:Quarterly Breakfast - Canceled
DESCRIPTION:BWC Programs & Claims Management\n\n\n\nJeff Little\, of Bureau of Workers' Compensation\, will be our guest speaker at our first Quarterly Breakfast of 2023. He has had nearly 30 years in the industry\, working with employers\, state universities\, professional employer organizations and trade associations to manage claims\, assist with overall risk management\, and meet with key company personnel to implement policy improvements and various BWC alternative programs. Jeff obtained his Bachelor of Arts in Journalism from the Ohio State University and also holds the Associate in Risk Management insurance designation through the American Institute of Chartered Property Casualty Underwriters.\n\n\n\nJeff will share about the various rating option\, rebate programs\, and extensive list of safety services available to Ohio employers through the Ohio Bureau of Workers' Compensation. Jeff will also describe the claims process\, including the numerous players involved and helpful cost-contaminent strategies to assist employers in managing their workers' compensation exposure.
X-ALT-DESC;FMTTYPE=text/html:BWC Programs &amp\; Claims Management<br />\n<br />\nJeff Little\, of Bureau of Workers&#39\; Compensation\, will be our guest speaker at our first Quarterly Breakfast of 2023. He has had nearly 30 years in the industry\, working with employers\, state universities\, professional employer organizations and trade associations to manage claims\, assist with overall risk management\, and meet with key company personnel to implement policy improvements and various BWC alternative programs. Jeff obtained his Bachelor of Arts in Journalism from the Ohio State University and also holds the Associate in Risk Management insurance designation through the American Institute of Chartered Property Casualty Underwriters.<br />\n<br />\nJeff will share about the various rating option\, rebate programs\, and extensive list of safety services available to Ohio employers through the Ohio Bureau of Workers&#39\; Compensation.&nbsp\;Jeff will also describe the claims process\, including the numerous players involved and helpful cost-contaminent strategies to assist employers in managing their workers&#39\; compensation exposure.
LOCATION:NorthStar Golf Club Sunbury\, OH
UID:e.295.6698
SEQUENCE:3
DTSTAMP:20260420T142849Z
URL:https://business.sunburybigwalnutchamber.com/events/details/quarterly-breakfast-canceled-6698
END:VEVENT

END:VCALENDAR
