BEGIN:VCALENDAR
VERSION:2.0
PRODID:-//ChamberMaster//Event Calendar 2.0//EN
METHOD:PUBLISH
X-PUBLISHED-TTL:P3D
REFRESH-INTERVAL:P3D
CALSCALE:GREGORIAN
BEGIN:VEVENT
DTSTART:20251010T113000Z
DTEND:20251010T130000Z
X-MICROSOFT-CDO-ALLDAYEVENT:FALSE
SUMMARY:Quarterly Breakfast-Candidate
DESCRIPTION:Quarterly Breakfast for the Candidates\n\nJoin us for our Annual Candidate Breakfast. Come hear from local candidates and gain information to help you make the best decision at the polls this November!
X-ALT-DESC;FMTTYPE=text/html:Quarterly Breakfast for the Candidates<br />\nJoin us for our Annual Candidate Breakfast. Come hear from local candidates and gain information to help you make the best decision at the polls this November!
LOCATION:NorthStar Golf Club Event Center 1150 Wilson Rd. Sunbury
UID:e.295.7016
SEQUENCE:3
DTSTAMP:20260420T122740Z
URL:https://business.sunburybigwalnutchamber.com/events/details/quarterly-breakfast-candidate-7016
END:VEVENT

END:VCALENDAR
