BEGIN:VCALENDAR
VERSION:2.0
PRODID:-//ChamberMaster//Event Calendar 2.0//EN
METHOD:PUBLISH
X-PUBLISHED-TTL:P3D
REFRESH-INTERVAL:P3D
CALSCALE:GREGORIAN
BEGIN:VEVENT
DTSTART:20231020T113000Z
DTEND:20231020T130000Z
X-MICROSOFT-CDO-ALLDAYEVENT:FALSE
SUMMARY:Quarterly Breakfast-Candidates
DESCRIPTION:Join the Chamber for our Quarterly Breakfast where we invite candidates to come and inform the voters who they are and what they stand for. As always\, breakfast will be served.
X-ALT-DESC;FMTTYPE=text/html:Join the Chamber for our Quarterly Breakfast where we invite candidates to come and inform the voters who they are and what they stand for. As always\, breakfast will be served.
LOCATION:NorthStar Golf Club 1150 Wilson Rd Sunbury
UID:e.295.6723
SEQUENCE:3
DTSTAMP:20260420T001236Z
URL:https://business.sunburybigwalnutchamber.com/events/details/quarterly-breakfast-candidates-6723
END:VEVENT

END:VCALENDAR
