BEGIN:VCALENDAR
VERSION:2.0
PRODID:-//ChamberMaster//Event Calendar 2.0//EN
METHOD:PUBLISH
X-PUBLISHED-TTL:P3D
REFRESH-INTERVAL:P3D
CALSCALE:GREGORIAN
BEGIN:VEVENT
DTSTART:20250724T200000Z
DTEND:20250724T230000Z
X-MICROSOFT-CDO-ALLDAYEVENT:FALSE
SUMMARY:Raise the Roof FUNdraiser
DESCRIPTION:Join us at the Chamber for a Roof FUNdraiser  where you can mingle and network with local businesses. Enjoy Appetizers\, Games\, Music\, Karaoke\, Dancing\, Cash Bar\, and 50/50 Raffle.
X-ALT-DESC;FMTTYPE=text/html:Join us at the Chamber for a Roof <strong>FUNdraiser</strong>&nbsp\; where you can mingle and network with local businesses. Enjoy Appetizers\, Games\, Music\, Karaoke\, Dancing\, Cash Bar\, and 50/50 Raffle.
LOCATION:Sunbury Big Walnut Chamber of Commerce 39 E Granville St. (Back Parking Lot) Sunbury
UID:e.295.7080
SEQUENCE:3
DTSTAMP:20260420T072000Z
URL:https://business.sunburybigwalnutchamber.com/events/details/raise-the-roof-fundraiser-7080
END:VEVENT

END:VCALENDAR
