BEGIN:VCALENDAR
VERSION:2.0
PRODID:-//ChamberMaster//Event Calendar 2.0//EN
METHOD:PUBLISH
X-PUBLISHED-TTL:P3D
REFRESH-INTERVAL:P3D
CALSCALE:GREGORIAN
BEGIN:VEVENT
DTSTART:20230929T153000Z
DTEND:20230929T160000Z
X-MICROSOFT-CDO-ALLDAYEVENT:FALSE
SUMMARY:Ribbon Cutting
DESCRIPTION:The chamber has another Ribbon Cutting to do and we are excited. Join us as we (officially) welcome Sunbury Florist to the Square.
X-ALT-DESC;FMTTYPE=text/html:The chamber has another Ribbon Cutting to do and we are excited. Join us as we (officially) welcome Sunbury Florist to the Square.<br />\n&nbsp\;
LOCATION:Sunbury Florist 14 E Cherry St Sunbury
UID:e.295.6746
SEQUENCE:3
DTSTAMP:20260420T015942Z
URL:https://business.sunburybigwalnutchamber.com/events/details/ribbon-cutting-6746
END:VEVENT

END:VCALENDAR
